Workbook
Name kankyo: 受講・お申込み要領!$B$33
Name ジャンル: [1]表紙!$C$4:$C$12

Sheet 受講・お申込み要領
A1: アーカイブ配信とは？ | B1: オンラインLIVEセミナーの録画を１週間いつでも何度でもご覧いただけます。
B2: ★ご自宅のPC、スマートフォンやタブレットでも視聴可能！
B3: ★テキストはPDFでダウンロードいただきます。
B4: →自社の資料を立ち止まって確認しながら受講可能！
B5: →解りづらい箇所も落ち着いて繰り返し学習できます！
A6: お申込み・ご受講について | B6: ●視聴期間は指定のないセミナーは原則月曜日（祝日の場合は火曜日）～15日間です。
B7: ※マイページに記載の「開催日」とは異なりますのでご注意ください。
B8: ★受講開始日のご希望がある場合はご入力ください。
B9: ●水曜日（祝日の場合は火曜日）までのお申込み受付分について、翌週月曜日（祝日の場合は火曜日）までに、ご登録の受講者様Eメールアドレスに「受講ID登録お知らせ」メールを送信いたします。
B10: ※SQUET会員以外のお客さまは事前振込確認の後ID発行になります。
B11: ●視聴期間中は何度でも繰り返し視聴できます。
A12: ご請求・お支払い・キャンセルについて | B12: ★同セミナーリアルタイムご受講者様は一律受講料3,300円にて承ります。お申込みの際備考欄にご記入ください。
B13: ★お申込み受付後、当社にてSQUET会員区分を確認のうえご請求書をお送りします。
B14: ご請求月の翌月末までに銀行振込にてお支払いください。
B15: （本サービスはDCゴールドカードでの決済はできません）
B16: ★お申込みの翌週月曜日までに、受講者様Eメールアドレス宛に視聴IDの発行をいたします。
B17: ID発行以降はいかなる場合であっても受講料を申し受けます。
A18: その他ご受講にあたり注意事項 | B18: ★視聴期間は指定のないセミナーはID発行から15日間（翌月曜日）です。（視聴期間の延長はできません）
B19: ★IDの共有は禁止しております。IDで1名様ご受講いただけます。
B20: 別の方のアクセスが判明した場合は人数分の受講料を申し受けます。
B21: ★視聴画面の複製、画面コピー、テキスト・資料の複製・コピー、共用は固くお断りいたします。
B22: これらの行為が発覚した場合、当社から損害賠償請求等の法的措置をとる場合があります。
A23: お申し込み方法 | B23: 通常セミナーと同様、各アーカイブセミナー詳細ページの「このセミナーに申込む」ボタンからお申込みください。
B24: ★受講者様Eメールアドレス宛に視聴IDををお送りしますので、受講者Eメールアドレスは必ずご入力ください。
B25: ★動作環境・視聴テストをご確認のうえお申込みください。
A26: 推奨環境 | B26: ＜動作テスト環境＞
B27: 下記UDLより下記テストユーザーID/パスワードでログインいただき、動作をご確認ください。
B28: UDL：https://open-sesame.study.jp/rpv/
B29: ユーザーID：MURC_TEST03
B30: パスワード：MURC_TEST03
B32: ＜視聴推奨環境＞
B33: 【Microsoft Windows】
B34: Windows 11［64ビット版］
B35: Microsoft Edge Chromium 139［デスクトップ版］
B36: Google Chrome 138［デスクトップ版］
B37: Firefox 141［デスクトップ版］
B38: 【macOS】
B39: macOS v15.5 Sequoia / Safari
... B60: ※OpenSesameはデジタルナレッジ社KnowledgeDeliverを使用しております。
A61: アーカイブ受講マニュアル | B61: アーカイブ受講マニュアルはこちらからご参照ください
...

Sheet 入力用
A1: MUFGビジネスセミナーアーカイブ 団体申込フォーム
A3: ※三菱ＵＦＪリサーチ＆コンサルティング「お申込み手続き」「個人情報の取扱いについて」等を承諾のうえ申込みます。 | G3: ※EU（GDPR適用地域）または米国カリフォルニア州在住の受講者を含む場合、事前にご連絡ください
A4: 会社・派遣責任者情報 | B4: 貴社名 | G4: ●個人情報の取り扱いについて | K4: ●お申込み手続きはこちら
B5: 貴社名カナ | G5: 派遣責任者様からのお申込の場合は、下記の個人情報の取扱いについて、受講者様の同意の上でお申込みください。 （セミナー） １．個人情報の取り扱い方針 お預かりした個人情報は、当社が定める「個人情報保護方針」(https://www.murc.jp/corporate/privacy/)及び「個人情報の取り扱いについて」(https://www.murc.jp/corporate/privacy02/)に従って、適切に取り扱います。 ２．個人情報の利用目的 お預かりした個人情報は、当該セミナーに関するご連絡、セミナー講師への参加者名簿の提供、その他必要な事務手続き等に利用します。また、この情報を元に、派遣責任者様宛に当社から今後のセミナー・サービス等のご案内をさせていただく場合があります。ご案内を希望されない場合は、お申し込み画面の「今後のご案内方法で希望されないもの」の□にチェックしてください。 ３．個人情報の共同利用・第三者提供 お預かりした個人情報のうち、セミナー参加者の個人情報（所属企業・団体名、氏名）については、参加者名簿として、セミナー講師に提供する場合があります。 ①第三者に提供する目的： 参加者に応じたセミナー運営のため ②提供する個人情報の項目： 所属企業・団体名、氏名 ③提供の手段又は方法： 参加者リスト（電子ファイル）として提供 ④当該情報の提供を受ける者： 当該セミナーの担当講師および所属・派遣企業 ⑤個人情報の取扱いに関する契約： 契約はございません（当日限り参照） また、企業（団体）様から受講お申込の場合、所属企業（団体）の派遣責任者様に、セミナー参加者の受講状況、受講結果、成績等を提供することがございます。 ①第三者に提供する目的： セミナーの受講履歴ご報告のため ②提供する個人情報の項目： 氏名、受講状況、受講結果、成績 ③提供の手段又は方法： 電子ファイルとして提供 ④当該情報の提供を受ける者： ご所属企業（団体）の派遣責任者様 ⑤個人情報の取扱いに関する契約： 契約はございません ４．個人情報の取り扱いの委託 利用目的の範囲内において、当社以外の第三者に個人情報の取り扱いを委託することがあります。その場合には、十分な個人情報保護の水準を備える者を選定し、契約等によって個人情報の保護水準を守るよう定め、個人情報を適切に取り扱います。 ５．個人情報の提供の任意性とそれに対する影響 ご記入項目のうち、※の項目は必ずご記入ください。ご記入漏れがあるとお申込みを受付できない場合があります。その他の項目のご記入は任意ですが、差し支えなければご記入ください。 ６．個人情報に関するお問い合わせ お預かりした個人情報の利用目的の通知、開示、内容の訂正・追加・削除、利用の停止・消去・第三者への提供の停止、第三者提供記録の開示、または個人情報に関する苦情のお申し出、その他の問い合わせにつきましては、下記までご連絡ください。 MUFGビジネスセミナー事務局 東京：TEL 03－6733－1059 名古屋：TEL 052－307－1105 大阪：TEL 06－7637－1410
B6: 会員種別
B7: 提携先会員区分
B8: SQUET会員番号
B9: 三菱UFJ銀行お取引店
B10: お支払方法
B11: 郵便番号
B12: 都道府県
B13: 会社住所
B14: 建物名など
B15: 会社電話番号
B16: 派遣責任者姓
B17: 派遣責任者名
B18: 派遣責任者セイ
B19: 派遣責任者メイ | H19: Eメール添付送付先：
B20: 派遣責任者所属部署名 | J20: open_sesame@murc.jp
B21: 派遣責任者役職名 | H21: （※Eメール添付の場合はパスワードの設定をおすすめします）
B22: 派遣責任者Eメール
B23: 請求書の送付方法
B25: 今後のご案内方法で 希望されないもの | G25: ★ご請求書はお申込み受付後に会員区分を確認のうえ、ご指定の送付方法でお送りいたします。
A26: NO | B26: セミナーNO | C26: PJコード | D26: 希望視聴開始日 | E26: セミナータイトル（自動入力） | F26: 受講料(自動入力) | G26: 受講者姓 | H26: 受講者名 | I26: 受講者セイ | J26: 受講者メイ | K26: 所属部署名 | L26: 役職名 | M26: Eメール
A27: 1 | C27: =TEXT(B27,"000") -> 000 | E27: =IFERROR((VLOOKUP(B27,MUFGビジネスセミナーアーカイブ一覧!C:D,2,FALSE)),"") | F27: =IFERROR((VLOOKUP(B27,MUFGビジネスセミナーアーカイブ一覧!C:K,LEFT($D$6,1)+5,FALSE)),"")
A28: 2 | C28: =TEXT(B28,"000") -> 000 | E28: =IFERROR((VLOOKUP(B28,MUFGビジネスセミナーアーカイブ一覧!C:D,2,FALSE)),"") | F28: =IFERROR((VLOOKUP(B28,MUFGビジネスセミナーアーカイブ一覧!C:K,LEFT($D$6,1)+5,FALSE)),"")
A29: 3 | C29: =TEXT(B29,"000") -> 000 | E29: =IFERROR((VLOOKUP(B29,MUFGビジネスセミナーアーカイブ一覧!C:D,2,FALSE)),"") | F29: =IFERROR((VLOOKUP(B29,MUFGビジネスセミナーアーカイブ一覧!C:K,LEFT($D$6,1)+5,FALSE)),"")
A30: 4 | C30: =TEXT(B30,"000") -> 000 | E30: =IFERROR((VLOOKUP(B30,MUFGビジネスセミナーアーカイブ一覧!C:D,2,FALSE)),"") | F30: =IFERROR((VLOOKUP(B30,MUFGビジネスセミナーアーカイブ一覧!C:K,LEFT($D$6,1)+5,FALSE)),"")
A31: 5 | C31: =TEXT(B31,"000") -> 000 | E31: =IFERROR((VLOOKUP(B31,MUFGビジネスセミナーアーカイブ一覧!C:D,2,FALSE)),"") | F31: =IFERROR((VLOOKUP(B31,MUFGビジネスセミナーアーカイブ一覧!C:K,LEFT($D$6,1)+5,FALSE)),"")
A32: 6 | C32: =TEXT(B32,"000") -> 000 | E32: =IFERROR((VLOOKUP(B32,MUFGビジネスセミナーアーカイブ一覧!C:D,2,FALSE)),"") | F32: =IFERROR((VLOOKUP(B32,MUFGビジネスセミナーアーカイブ一覧!C:K,LEFT($D$6,1)+5,FALSE)),"")
A33: 7 | C33: =TEXT(B33,"000") -> 000 | E33: =IFERROR((VLOOKUP(B33,MUFGビジネスセミナーアーカイブ一覧!C:D,2,FALSE)),"") | F33: =IFERROR((VLOOKUP(B33,MUFGビジネスセミナーアーカイブ一覧!C:K,LEFT($D$6,1)+5,FALSE)),"")
A34: 8 | C34: =TEXT(B34,"000") -> 000 | E34: =IFERROR((VLOOKUP(B34,MUFGビジネスセミナーアーカイブ一覧!C:D,2,FALSE)),"") | F34: =IFERROR((VLOOKUP(B34,MUFGビジネスセミナーアーカイブ一覧!C:K,LEFT($D$6,1)+5,FALSE)),"")
A35: 9 | C35: =TEXT(B35,"000") -> 000 | E35: =IFERROR((VLOOKUP(B35,MUFGビジネスセミナーアーカイブ一覧!C:D,2,FALSE)),"") | F35: =IFERROR((VLOOKUP(B35,MUFGビジネスセミナーアーカイブ一覧!C:K,LEFT($D$6,1)+5,FALSE)),"")
A36: 10 | C36: =TEXT(B36,"000") -> 000 | E36: =IFERROR((VLOOKUP(B36,MUFGビジネスセミナーアーカイブ一覧!C:D,2,FALSE)),"") | F36: =IFERROR((VLOOKUP(B36,MUFGビジネスセミナーアーカイブ一覧!C:K,LEFT($D$6,1)+5,FALSE)),"")
A37: 11 | C37: =TEXT(B37,"000") -> 000 | E37: =IFERROR((VLOOKUP(B37,MUFGビジネスセミナーアーカイブ一覧!C:D,2,FALSE)),"") | F37: =IFERROR((VLOOKUP(B37,MUFGビジネスセミナーアーカイブ一覧!C:K,LEFT($D$6,1)+5,FALSE)),"")
A38: 12 | C38: =TEXT(B38,"000") -> 000 | E38: =IFERROR((VLOOKUP(B38,MUFGビジネスセミナーアーカイブ一覧!C:D,2,FALSE)),"") | F38: =IFERROR((VLOOKUP(B38,MUFGビジネスセミナーアーカイブ一覧!C:K,LEFT($D$6,1)+5,FALSE)),"")
... A46: 20 | C46: =TEXT(B46,"000") -> 000 | E46: =IFERROR((VLOOKUP(B46,MUFGビジネスセミナーアーカイブ一覧!C:D,2,FALSE)),"") | F46: =IFERROR((VLOOKUP(B46,MUFGビジネスセミナーアーカイブ一覧!C:K,LEFT($D$6,1)+5,FALSE)),"")
B47: ※計算式を含んでおりますのでこれより下の行は入力なさらないでください。20名様以上の場合はシートをコピーしてください。

Sheet 入力例
A1: MUFGビジネスセミナー 団体申込フォーム
A3: ※三菱ＵＦＪリサーチ＆コンサルティング「お申込み手続き」「個人情報の取扱いについて」等を承諾のうえ申込みます。 | G3: ※EU（GDPR適用地域）または米国カリフォルニア州在住の受講者を含む場合、事前にご連絡ください
A4: 会社・派遣責任者情報 | B4: 貴社名 | D4: 三菱ＵＦＪリサーチ＆コンサルティング株式会社 | G4: ●個人情報の取り扱いについて | K4: ●お申込み手続きはこちら
B5: 貴社名カナ | D5: ミツビシユーエフジェイリサーチアンドコンサルティング（カ | G5: 派遣責任者様からのお申込の場合は、下記の個人情報の取扱いについて、受講者様の同意の上でお申込みください。 （セミナー） １．個人情報の取り扱い方針 お預かりした個人情報は、当社が定める「個人情報保護方針」(https://www.murc.jp/corporate/privacy/)及び「個人情報の取り扱いについて」(https://www.murc.jp/privacy/)に従って、適切に取り扱います。 ２．個人情報の利用目的 お預かりした個人情報は、当該セミナーに関するご連絡、セミナー講師への参加者名簿の提供、その他必要な事務手続き等に利用します。また、この情報を元に、派遣責任者様宛に当社から今後のセミナー等のご案内をさせていただく場合があります。ご案内を希望されない場合は、お申し込み画面の「今後のご案内方法で希望されないもの」の□にチェックしてください。 ３．個人情報の共同利用・第三者提供 お預かりした個人情報のうち、セミナー参加者の個人情報（所属企業・団体名、氏名）については、参加者名簿として、セミナー講師に提供する場合があります。 ①第三者に提供する目的： 参加者に応じたセミナー運営のため ②提供する個人情報の項目： 所属企業・団体名、氏名 ③提供の手段又は方法： 参加者リスト（電子ファイル）として提供 ④当該情報の提供を受ける者： 当該セミナーの担当講師および所属・派遣企業 ⑤個人情報の取扱いに関する契約： 契約はございません（当日限り参照） また、企業（団体）様から受講お申込の場合、所属企業（団体）の派遣責任者様に、セミナー参加者の受講状況、受講結果、成績等を提供することがございます。 ①第三者に提供する目的： セミナーの受講履歴ご報告のため ②提供する個人情報の項目： 氏名、受講状況、受講結果、成績 ③提供の手段又は方法： 電子ファイルとして提供 ④当該情報の提供を受ける者： ご所属企業（団体）の派遣責任者様 ⑤個人情報の取扱いに関する契約： 契約はございません ４．個人情報の取り扱いの委託 利用目的の範囲内において、当社以外の第三者に個人情報の取り扱いを委託することがあります。その場合には、十分な個人情報保護の水準を備える者を選定し、契約等によって個人情報の保護水準を守るよう定め、個人情報を適切に取り扱います。 ５．個人情報の提供の任意性とそれに対する影響 ご記入項目のうち、※の項目は必ずご記入ください。ご記入漏れがあるとお申込みを受付できない場合があります。その他の項目のご記入は任意ですが、差し支えなければご記入ください。 ６．個人情報に関するお問い合わせ お預かりした個人情報の利用目的の通知、開示、内容の訂正・追加・削除、利用の停止・消去・第三者への提供の停止、第三者提供記録の開示、または個人情報に関する苦情のお申し出、その他の問い合わせにつきましては、下記までご連絡ください。 MUFGビジネスセミナー事務局 東京：TEL 03－6733－1059 名古屋：TEL 052－307－1105 大阪：TEL 06－7637－1410
B6: 会員種別 | D6: 2：SQUET一般会員
B7: 提携先会員区分
B8: SQUET会員番号 | D8: 12345
B9: 三菱UFJ銀行お取引店 | D9: 四谷
B10: お支払方法 | D10: 1：銀行振込
B11: 郵便番号 | D11: 1058501
B12: 都道府県 | D12: 東京都
B13: 会社住所 | D13: 港区虎ノ門５－１１－２
B14: 建物名など | D14: オランダヒルズ森タワー
B15: 会社電話番号 | D15: 03-6733-1059
B16: 派遣責任者姓 | D16: 三菱
B17: 派遣責任者名 | D17: 太郎
B18: 派遣責任者セイ | D18: ミツビシ
B19: 派遣責任者メイ | D19: タロウ | H19: Eメール添付送付先：
B20: 派遣責任者所属部署名 | D20: 総務部 | J20: education@murc.jp
B21: 派遣責任者役職名 | D21: 部長 | H21: （※Eメール添付の場合はパスワードの設定をおすすめします）
B22: 派遣責任者Eメール | D22: example@murc.jp
B23: 請求書の送付方法 | D23: 1：WEBダウンロード
B24: 早割対象 | D24: 1：早割非対象
B25: 今後のご案内方法で 希望されないもの | D25: 1：郵送不要 | G25: ★ご請求書はお申込み受付後に会員区分を確認のうえ、ご指定の送付方法でお送りいたします。
A26: NO | B26: セミナーNO | C26: PJコード | D26: 希望視聴開始日 | E26: セミナータイトル（自動入力） | F26: 受講料（割引前） | G26: 受講者姓 | H26: 受講者名 | I26: 受講者セイ | J26: 受講者メイ | K26: 所属部署名 | L26: 役職名 | M26: Eメール
A27: 1 | B27: G761 | C27: =TEXT(B27,"000") -> G761 | D27: 45809 | E27: =IFERROR((VLOOKUP(B27,MUFGビジネスセミナーアーカイブ一覧!C:D,2,FALSE)),"") -> 経営者目線で学ぶ 管理職のための内部統制とコンプライアンス【MUFGビジネスセミナーアーカイブ761】 | F27: =IFERROR((VLOOKUP(B27,MUFGビジネスセミナーアーカイブ一覧!C:K,LEFT($D$6,1)+5,FALSE)),"") -> 29700 | G27: 鈴木 | H27: 一郎 | I27: スズキ | J27: イチロウ | K27: 総務部 | L27: 係長 | M27: example2@murc.jp
A28: 2 | B28: G707 | C28: =TEXT(B28,"000") -> G707 | D28: 45842 | E28: =IFERROR((VLOOKUP(B28,MUFGビジネスセミナーアーカイブ一覧!C:D,2,FALSE)),"") -> 4時間でわかる!決算書の見どころ・勘どころ【MUFGビジネスセミナーアーカイブ707】 | F28: =IFERROR((VLOOKUP(B28,MUFGビジネスセミナーアーカイブ一覧!C:K,LEFT($D$6,1)+5,FALSE)),"") -> 29700 | G28: 佐藤 | H28: 次郎 | I28: サトウ | J28: ジロウ | K28: 営業部 | L28: 課長 | M28: example3@murc.jp
A29: 3 | B29: G741 | C29: =TEXT(B29,"000") -> G741 | D29: 45874 | E29: =IFERROR((VLOOKUP(B29,MUFGビジネスセミナーアーカイブ一覧!C:D,2,FALSE)),"") -> 1日で学ぶ「会社の税金」入門講座【MUFGビジネスセミナーアーカイブ741】 | F29: =IFERROR((VLOOKUP(B29,MUFGビジネスセミナーアーカイブ一覧!C:K,LEFT($D$6,1)+5,FALSE)),"") -> 38500 | G29: 伊藤 | H29: 三郎 | I29: イトウ | J29: サブロウ | K29: 人事部 | L29: 課長 | M29: example4@murc.jp
A30: 4 | C30: =TEXT(B30,"000") -> 000 | E30: =IFERROR((VLOOKUP(B30,MUFGビジネスセミナーアーカイブ一覧!C:D,2,FALSE)),"") | F30: =IFERROR((VLOOKUP(B30,MUFGビジネスセミナーアーカイブ一覧!C:K,LEFT($D$6,1)+5,FALSE)),"")
A31: 5 | C31: =TEXT(B31,"000") -> 000 | E31: =IFERROR((VLOOKUP(B31,MUFGビジネスセミナーアーカイブ一覧!C:D,2,FALSE)),"") | F31: =IFERROR((VLOOKUP(B31,MUFGビジネスセミナーアーカイブ一覧!C:K,LEFT($D$6,1)+5,FALSE)),"")
A32: 6 | C32: =TEXT(B32,"000") -> 000 | E32: =IFERROR((VLOOKUP(B32,MUFGビジネスセミナーアーカイブ一覧!C:D,2,FALSE)),"") | F32: =IFERROR((VLOOKUP(B32,MUFGビジネスセミナーアーカイブ一覧!C:K,LEFT($D$6,1)+5,FALSE)),"")
A33: 7 | C33: =TEXT(B33,"000") -> 000 | E33: =IFERROR((VLOOKUP(B33,MUFGビジネスセミナーアーカイブ一覧!C:D,2,FALSE)),"") | F33: =IFERROR((VLOOKUP(B33,MUFGビジネスセミナーアーカイブ一覧!C:K,LEFT($D$6,1)+5,FALSE)),"")
A34: 8 | C34: =TEXT(B34,"000") -> 000 | E34: =IFERROR((VLOOKUP(B34,MUFGビジネスセミナーアーカイブ一覧!C:D,2,FALSE)),"") | F34: =IFERROR((VLOOKUP(B34,MUFGビジネスセミナーアーカイブ一覧!C:K,LEFT($D$6,1)+5,FALSE)),"")
A35: 9 | C35: =TEXT(B35,"000") -> 000 | E35: =IFERROR((VLOOKUP(B35,MUFGビジネスセミナーアーカイブ一覧!C:D,2,FALSE)),"") | F35: =IFERROR((VLOOKUP(B35,MUFGビジネスセミナーアーカイブ一覧!C:K,LEFT($D$6,1)+5,FALSE)),"")
A36: 10 | C36: =TEXT(B36,"000") -> 000 | E36: =IFERROR((VLOOKUP(B36,MUFGビジネスセミナーアーカイブ一覧!C:D,2,FALSE)),"") | F36: =IFERROR((VLOOKUP(B36,MUFGビジネスセミナーアーカイブ一覧!C:K,LEFT($D$6,1)+5,FALSE)),"")
A37: 11 | C37: =TEXT(B37,"000") -> 000 | E37: =IFERROR((VLOOKUP(B37,MUFGビジネスセミナーアーカイブ一覧!C:D,2,FALSE)),"") | F37: =IFERROR((VLOOKUP(B37,MUFGビジネスセミナーアーカイブ一覧!C:K,LEFT($D$6,1)+5,FALSE)),"")
A38: 12 | C38: =TEXT(B38,"000") -> 000 | E38: =IFERROR((VLOOKUP(B38,MUFGビジネスセミナーアーカイブ一覧!C:D,2,FALSE)),"") | F38: =IFERROR((VLOOKUP(B38,MUFGビジネスセミナーアーカイブ一覧!C:K,LEFT($D$6,1)+5,FALSE)),"")
A39: 13 | C39: =TEXT(B39,"000") -> 000 | E39: =IFERROR((VLOOKUP(B39,MUFGビジネスセミナーアーカイブ一覧!C:D,2,FALSE)),"") | F39: =IFERROR((VLOOKUP(B39,MUFGビジネスセミナーアーカイブ一覧!C:K,LEFT($D$6,1)+5,FALSE)),"")
A40: 14 | C40: =TEXT(B40,"000") -> 000 | E40: =IFERROR((VLOOKUP(B40,MUFGビジネスセミナーアーカイブ一覧!C:D,2,FALSE)),"") | F40: =IFERROR((VLOOKUP(B40,MUFGビジネスセミナーアーカイブ一覧!C:K,LEFT($D$6,1)+5,FALSE)),"")
A41: 15 | C41: =TEXT(B41,"000") -> 000 | E41: =IFERROR((VLOOKUP(B41,MUFGビジネスセミナーアーカイブ一覧!C:D,2,FALSE)),"") | F41: =IFERROR((VLOOKUP(B41,MUFGビジネスセミナーアーカイブ一覧!C:K,LEFT($D$6,1)+5,FALSE)),"")
...

Sheet MUFGビジネスセミナーアーカイブ一覧
A1: 対象 | B1: 小分類 | C1: セミナーNo | D1: セミナータイトル | E1: 講師名 (敬称略) | F1: 視聴時間（概算） | G1: 概要（カリキュラム） | H1: 特別会員 （税込） | I1: 一般会員 （税込） | J1: 会員以外 （税込） | K1: 会員以外 （税込） | L1: セミナータイトル２ | M1: URL
A2: 0_経営者・経営幹部 | B2: 経営計画_経営財務_コンプライアンス | C2: G762 | D2: =HYPERLINK(M2,L2) -> 新任取締役パッケージ【MUFGビジネスセミナーアーカイブ762】 | E2: 菅原 貴与志 井口 嘉則 金子 智朗 | F2: 全日3セミナー分 | G2: 取締役・執行役員の義務と責任【MUFGビジネスセミナーアーカイブ744】 「中期３カ年経営計画」策定＆実践セミナー【MUFGビジネスセミナーアーカイブ710】 意思決定に役立つ！ 管理会計の実践ノウハウ【MUFGビジネスセミナーアーカイブ728】 ※受講期間1ヵ月 | H2: 112200 | I2: 122100 | J2: 138600 | K2: 138600 | L2: 新任取締役パッケージ【MUFGビジネスセミナーアーカイブ762】 | M2: https://mufg.squet.ne.jp/public/seminar/view/28865
A3: 0_経営者・経営幹部 | B3: 経営計画_経営財務_コンプライアンス | C3: G772 | D3: =HYPERLINK(M3,L3) -> 新任取締役パッケージB【MUFGビジネスセミナーアーカイブ772】 | E3: 菅原 貴与志 井口 嘉則 金子 智朗 | F3: 全日3セミナー分 | G3: 取締役・執行役員の義務と責任【MUFGビジネスセミナーアーカイブ744】 「中期３カ年経営計画」策定＆実践セミナー【MUFGビジネスセミナーアーカイブ710】 取締役・執行役員のためのマネジメントに活かす会計【MUFGビジネスセミナーアーカイブ771】 ※受講期間1ヵ月 | H3: 115500 | I3: 125400 | J3: 141900 | K3: 141900 | L3: 新任取締役パッケージB【MUFGビジネスセミナーアーカイブ772】 | M3: https://mufg.squet.ne.jp/public/seminar/view/31834
A4: 0_経営者・経営幹部 | B4: 経営財務 | C4: G771 | D4: =HYPERLINK(M4,L4) -> 取締役・執行役員のためのマネジメントに活かす会計【MUFGビジネスセミナーアーカイブ771】 | E4: 金子 智朗 | F4: 5時間20分 | G4: １．会計とは～財務会計と管理会計を「4つの視点」で比較する ２．財務会計編①～決算書の構造 ３．財務会計編②～原理原則 ４．管理会計編①～意思決定の基本的考え方 ５．管理会計編②～組織マネジメントへの応用 | H4: 38500 | I4: 41800 | J4: 47300 | K4: 47300 | L4: 取締役・執行役員のためのマネジメントに活かす会計【MUFGビジネスセミナーアーカイブ771】 | M4: https://mufg.squet.ne.jp/public/seminar/view/31603
A5: 0_経営者・経営幹部 | B5: 経営戦略・経営計画 | C5: G710 | D5: =HYPERLINK(M5,L5) -> 「中期３カ年経営計画」策定＆実践セミナー【MUFGビジネスセミナーアーカイブ710】 | E5: 井口 嘉則 | F5: 4時間55分 | G5: １．中期経営計画の基礎～VUCAの時代に中計を作る意味等～ ２．ビジネスモデルを見直し、構造改革を促す ３．ビジョン設定・ビジネス環境分析・戦略策定 ４．経営計画への落とし込み方 ５．策定方法と体制 | H5: 38500 | I5: 41800 | J5: 47300 | K5: 47300 | L5: 「中期３カ年経営計画」策定＆実践セミナー【MUFGビジネスセミナーアーカイブ710】 | M5: https://mufg.squet.ne.jp/public/seminar/view/15602
A6: 0_経営者・経営幹部 | B6: 経営戦略・経営計画 | C6: G756 | D6: 「会社法」で強化する経営力 ※2027年3月下旬公開予定 | E6: 金子 智朗 | G6: １．そもそも「会社」とは何か ２．株式とは～株券と株式は違う ３．会社の「機関」を理解する ４．株主総会、代表取締役、取締役会、監査 ５．会計・ファイナンスに関連する重要トピック （資本金、資金調達、配当、M＆A） | H6: 38500 | I6: 41800 | J6: 47300 | K6: 47300 | L6: 「会社法」で強化する経営力【オンラインLIVE_T054】
A7: 0_経営者・経営幹部 | B7: コンプライアンス | C7: G744 | D7: =HYPERLINK(M7,L7) -> 取締役・執行役員の義務と責任【MUFGビジネスセミナーアーカイブ744】 | E7: 菅原 貴与志 | F7: 5時間15分 | G7: １．会社役員の法律上の地位 ～取締役・監査役とは ２．取締役会と取締役・監査役 ３．役員の義務 ～取締役・監査役がしなければならないこと ４．役員の責任 ～取締役・監査役がしてはならないこと ５．内部統制システムの構築・整備と取締役・監査役 ６．コンプライアンス経営の実体 ～役員が注意しなければならない法律 | H7: 38500 | I7: 41800 | J7: 47300 | K7: 47300 | L7: 取締役・執行役員の義務と責任【MUFGビジネスセミナーアーカイブ744】 | M7: https://mufg.squet.ne.jp/public/seminar/view/20680
A8: 5_経理・財務・税務 | B8: 経営財務 | C8: G728 | D8: =HYPERLINK(M8,L8) -> 意思決定に役立つ！ 管理会計の実践ノウハウ【MUFGビジネスセミナーアーカイブ728】 | E8: 金子 智朗 | F8: 5時間2分 | G8: １．管理会計とは何か ２．意思決定～知らない間に判断ミスをしている ３．業績評価〜管理会計をカタチにする ４．バランスト・スコアカード〜戦略と行動を結ぶ | H8: 35200 | I8: 38500 | J8: 44000 | K8: 44000 | L8: 意思決定に役立つ！ 管理会計の実践ノウハウ【MUFGビジネスセミナーアーカイブ728】 | M8: https://mufg.squet.ne.jp/public/seminar/view/19893
A9: 5_経理・財務・税務 | B9: 経営財務 | C9: G733 | D9: 固定資産の会計と税務の基礎 ※2027年4月上旬公開予定 | E9: 松田 修 | G9: １．固定資産にはどんなものがあるか ２．固定資産を取得したときの処理 ３．減価償却計算～実務上の留意点 ４．固定資産の除却・廃棄処理、評価減の実務 ５．近年税制改正の減価償却制度への影響 | H9: 35200 | I9: 38500 | J9: 44000 | K9: 44000 | L9: 固定資産の会計と税務の基礎【オンラインLIVE_N559】
A10: 5_経理・財務・税務 | B10: 決算書分析 | C10: G707 | D10: =HYPERLINK(M10,L10) -> 4時間でわかる!決算書の見どころ・勘どころ【MUFGビジネスセミナーアーカイブ707】 | E10: 望月 明彦 | F10: 3時間23分 | G10: １．“決算書”の基礎知識 ２．P／L（損益計算書）はここを見る！ ３．B／S（貸借対照表）はここを見る！ ４．P／LとB／Sを分析してみる！ ５．決算書を読んでみよう！ | H10: 26400 | I10: 29700 | J10: 35200 | K10: 35200 | L10: 4時間でわかる!決算書の見どころ・勘どころ【MUFGビジネスセミナーアーカイブ707】 | M10: https://mufg.squet.ne.jp/public/seminar/view/15070
A11: 5_経理・財務・税務 | B11: 決算書分析 | C11: G723 | D11: =HYPERLINK(M11,L11) -> 財務３表 一体理解法【MUFGビジネスセミナーアーカイブ723】 | E11: 國貞 克則 | F11: 4時間58分 | G11: １．決算書の全体像を理解する ２．財務３表の基礎知識 ３．財務３表のつながりを理解する ４．純資産の部を理解する ５．実際の決算書を分析してみる | H11: 34100 | I11: 37400 | J11: 42900 | K11: 42900 | L11: 財務３表 一体理解法【MUFGビジネスセミナーアーカイブ723】 | M11: https://mufg.squet.ne.jp/public/seminar/view/19657
A12: 5_経理・財務・税務 | B12: 決算書分析 | C12: G746 | D12: =HYPERLINK(M12,L12) -> 決算書「見る・読む・使う」３００％活用術【MUFGビジネスセミナーアーカイブ746】 | E12: 松田 修 | F12: 5時間9分 | G12: １．損益計算書の見方・読み方、経営分析 ２．貸借対照表の見方・読み方、経営分析 ３．実践キャッシュフロー経営 ４．決算書からキャッシュフローを読む「６つの経営分析」 ５．倒産企業から学ぶ「経営指数のデッドライン」 | H12: 34100 | I12: 37400 | J12: 42900 | K12: 42900 | L12: 決算書「見る・読む・使う」３００％活用術【MUFGビジネスセミナーアーカイブ746】 | M12: https://mufg.squet.ne.jp/public/seminar/view/20911
A13: 5_経理・財務・税務 | B13: 実務スキルアップ | C13: G735 | D13: =HYPERLINK(M13,L13) -> 「自立思考型 経理担当者」キャリアアップセミナー＜Ⅰ 原理原則編＞【MUFGビジネスセミナーアーカイブ735】 | E13: 金子 智朗 | F13: 2時間36分 | G13: 1. これからの経理担当者に求められることは何か 2. 会計の“基本構造”を理解する ～まずはカタチから入りましょう～ 3. 会計の根底に流れる"原理原則" ～木を見る前に森を見る～ | H13: 20900 | I13: 24200 | J13: 29700 | K13: 29700 | L13: 「自立思考型 経理担当者」キャリアアップセミナー＜Ⅰ 原理原則編＞【MUFGビジネスセミナーアーカイブ735】 | M13: https://mufg.squet.ne.jp/public/seminar/view/20350
A14: 5_経理・財務・税務 | B14: 実務スキルアップ | C14: G738 | D14: =HYPERLINK(M14,L14) -> 「自立思考型 経理担当者」キャリアアップセミナー＜Ⅱ 個別論点編＞【MUFGビジネスセミナーアーカイブ738】 | E14: 金子 智朗 | F14: 2時間38分 | G14: 1. 棚卸資産 2. 有価証券 3. 固定資産 4. 引当金 5. 税務の基本 | H14: 20900 | I14: 24200 | J14: 29700 | K14: 29700 | L14: 「自立思考型 経理担当者」キャリアアップセミナー＜Ⅱ 個別論点編＞【MUFGビジネスセミナーアーカイブ738】 | M14: https://mufg.squet.ne.jp/public/seminar/view/20416
A15: 5_経理・財務・税務 | B15: 実務スキルアップ | C15: G748 | D15: =HYPERLINK(M15,L15) -> ビジネスパーソンが知っておくべき会社の仕組み（会社法）【MUFGビジネスセミナーアーカイブ748】 | E15: 金子 智朗 | F15: 5時間14分 | G15: １．そもそも「会社」とは何か ２．株式について ３．会社の機関 ４．会計・ファイナンスに関連する重要トピック | H15: 34100 | I15: 37400 | J15: 42900 | K15: 42900 | L15: ビジネスパーソンが知っておくべき会社の仕組み（会社法）【MUFGビジネスセミナーアーカイブ748】 | M15: https://mufg.squet.ne.jp/public/seminar/view/21043
A16: 5_経理・財務・税務 | B16: 実務スキルアップ | C16: G758 | D16: =HYPERLINK(M16,L16) -> 「自立思考型 経理担当者」キャリアアップセミナーⅠ・Ⅱセット割引受講【MUFGビジネスセミナーアーカイブ758】 | E16: 金子 智朗 | F16: 5時間14分 | G16: 「自立思考型 経理担当者」キャリアアップセミナー＜Ⅰ 原理原則編＞【MUFGビジネスセミナーアーカイブ735】 「自立思考型 経理担当者」キャリアアップセミナー＜Ⅱ 個別論点編＞【MUFGビジネスセミナーアーカイブ738】 | H16: 34100 | I16: 40700 | J16: 51700 | K16: 51700 | L16: 「自立思考型 経理担当者」キャリアアップセミナーⅠ・Ⅱセット割引受講【MUFGビジネスセミナーアーカイブ758】 | M16: https://mufg.squet.ne.jp/public/seminar/view/19890
A17: 5_経理・財務・税務 | B17: 税務 | C17: G741 | D17: =HYPERLINK(M17,L17) -> 1日で学ぶ「会社の税金」入門講座【MUFGビジネスセミナーアーカイブ741】 | E17: 松田 修 | F17: 5時間25分 | G17: Ⅰ 法人税を理解する Ⅱ 消費税を理解する Ⅲ 所得税を理解する（現物課税） Ⅳ「印紙税」迷いやすいケース10問10答 Ⅴ 近年税制改正のポイント | H17: 35200 | I17: 38500 | J17: 44000 | K17: 44000 | L17: 1日で学ぶ「会社の税金」入門講座【MUFGビジネスセミナーアーカイブ741】 | M17: https://mufg.squet.ne.jp/public/seminar/view/20454
A18: 6_総務・労務・人事・賃金 | B18: BCP | C18: G712 | D18: 災害等緊急時の労務管理の諸問題と体制整備の進め方 ※2026年8月下旬公開予定 | E18: 小宮 弘子 | G18: １．想定される緊急時とは ２．発生時の対応 ３．発生後の対応 ４．緊急時の労働保険 ５．慌てないための体制整備 | H18: 26400 | I18: 29700 | J18: 35200 | K18: 35200 | L18: 災害等緊急時の労務管理の諸問題と体制整備の進め方【東京来場形式_T603】
A19: 6_総務・労務・人事・賃金 | B19: コンプライアンス | C19: G759 | D19: =HYPERLINK(M19,L19) -> 企業と従業員を守る！ 労務コンプライアンスのチェックポイント【MUFGビジネスセミナーアーカイブ759】 | E19: 橘 大樹 | F19: 5時間36分 | G19: １．労務コンプライアンス総論 ２．「労働時間」のチェックポイント ３．「労働基準法」のチェックポイント ４．「ハラスメント」のチェックポイント ５．「非正規社員、請負・委託」のチェックポイント ６．「法令遵守状況」のチェックポイント | H19: 34100 | I19: 37400 | J19: 42900 | K19: 42900 | L19: 企業と従業員を守る！ 労務コンプライアンスのチェックポイント【MUFGビジネスセミナーアーカイブ759】 | M19: https://mufg.squet.ne.jp/public/seminar/view/25432
A20: 6_総務・労務・人事・賃金 | B20: コンプライアンス | C20: G761 | D20: =HYPERLINK(M20,L20) -> 経営者目線で学ぶ 管理職のための内部統制とコンプライアンス【MUFGビジネスセミナーアーカイブ761】 | E20: 菅原 貴与志 | F20: 3時間14分 | G20: １．総論：事業活動の法務リスク・コンプライアンス ２．管理職に必要な法律知識 ３．事例演習 ４．総括と質疑応答 | H20: 26400 | I20: 29700 | J20: 35200 | K20: 35200 | L20: 経営者目線で学ぶ 管理職のための内部統制とコンプライアンス【MUFGビジネスセミナーアーカイブ761】 | M20: https://mufg.squet.ne.jp/public/seminar/view/26389
A21: 6_総務・労務・人事・賃金 | B21: コンプライアンス | C21: G770 | D21: 管理者のための情報管理とコンプライアンスの基礎 ※2026年11月下旬公開予定 | E21: 北見 拓也 | G21: １．そもそもコンプライアンスとは？ ２．個人情報保護の基本と注意点 ３．営業秘密を守るために必要なこと ４．SNS利用におけるリスクと対策 ５．ハラスメント防止 | H21: 26400 | I21: 29700 | J21: 35200 | K21: 35200 | L21: 管理者のための情報管理とコンプライアンスの基礎【オンラインLIVE_N172】
A22: 6_総務・労務・人事・賃金 | B22: 社会保険 | C22: G737 | D22: =HYPERLINK(M22,L22) -> はじめての方のための「社会保険・労働保険の実務」【MUFGビジネスセミナーアーカイブ737】 | E22: 朝生 万里子 | F22: 5時間17分 | G22: １．社会保険・労働保険のしくみ ２．年次の定例業務 ３．入社時・退職時の手続 ４．在職中のさまざまな手続 ５．その他の重要事項 | H22: 36300 | I22: 39600 | J22: 45100 | K22: 45100 | L22: はじめての方のための「社会保険・労働保険の実務」【MUFGビジネスセミナーアーカイブ737】 | M22: https://mufg.squet.ne.jp/public/seminar/view/20284
A23: 6_総務・労務・人事・賃金 | B23: 社会保険 | C23: G752 | D23: =HYPERLINK(M23,L23) -> 社会保険・労働保険の実務【レベルアップ編】【MUFGビジネスセミナーアーカイブ752】 | E23: 朝生 万里子 | F23: 5時間25分 | G23: 1．社会保険・労働保険のしくみ 2．年次の定例業務 3．入社時の手続き 4．在職中の様々な手続き 5．退職時の手続き 6．その他の重要事項 | H23: 36300 | I23: 39600 | J23: 45100 | K23: 45100 | L23: 社会保険・労働保険の実務【レベルアップ編】【MUFGビジネスセミナーアーカイブ752】 | M23: https://mufg.squet.ne.jp/public/seminar/view/22231
A24: 6_総務・労務・人事・賃金 | B24: 人事・賃金 | C24: G717 | D24: =HYPERLINK(M24,L24) -> 自社に合った 人事評価・賃金制度の構築法【MUFGビジネスセミナーアーカイブ717】 | E24: 山口 俊一 | F24: 3時間39分 | G24: １．自社の人事・賃金制度の現状を把握する ２．等級・職位制度再構築のポイント ３．経営方針に直結する評価制度再構築のポイント ４．給与制度再構築のポイント ５．業績に連動する賞与制度・報奨金制度のつくり方 ６．人事制度導入のスケジュールと成功ポイント | H24: 27500 | I24: 30800 | J24: 36300 | K24: 36300 | L24: 自社に合った 人事評価・賃金制度の構築法【MUFGビジネスセミナーアーカイブ717】 | M24: https://mufg.squet.ne.jp/public/seminar/view/18206
A25: 6_総務・労務・人事・賃金 | B25: 人事・賃金 | C25: G765 | D25: =HYPERLINK(M25,L25) -> 定年延長・再雇用制度の法対応、他社事例に基づく見直し方【MUFGビジネスセミナーアーカイブ765】 | E25: 山口 俊一 | F25: 2時間39分 | G25: １．シニア社員雇用を取り巻く環境 ２．押さえておくべき関連法令と重要判例 ３．他社の対応状況、平均水準 ４．65歳超義務化時代に適した継続雇用制度のポイント ５．再雇用制度・定年延長制度設計の基本 ６．人事課題に対応した先進企業事例 ７．定年前の各種制度も再検討 | H25: 26400 | I25: 29700 | J25: 35200 | K25: 35200 | L25: 定年延長・再雇用制度の法対応、他社事例に基づく見直し方【MUFGビジネスセミナーアーカイブ765】 | M25: https://mufg.squet.ne.jp/public/seminar/view/29689
A26: 6_総務・労務・人事・賃金 | B26: ハラスメント | C26: G724 | D26: =HYPERLINK(M26,L26) -> 職場のハラスメント対策講座【MUFGビジネスセミナーアーカイブ724】 | E26: 千葉 博 | F26: 3時間23分 | G26: １．急増する雇用トラブルと個別労働紛争 ２．ハラスメント概念の整理～セクハラ・パワハラ・モラハラ・マタハラとは ３．セクハラの概念と注意点 ４．パワハラの概念と上司の心がけ ５．ハラスメントと他の法規制との関係 | H26: 26400 | I26: 29700 | J26: 35200 | K26: 35200 | L26: 職場のハラスメント対策講座【MUFGビジネスセミナーアーカイブ724】 | M26: https://mufg.squet.ne.jp/public/seminar/view/19690
A27: 6_総務・労務・人事・賃金 | B27: ハラスメント | C27: G736 | D27: =HYPERLINK(M27,L27) -> ハラスメントを防止する！相談・調査・処分の実務【MUFGビジネスセミナーアーカイブ736】 | E27: 橘 大樹 | F27: 3時間44分 | G27: １．なぜ企業はハラスメント防止の義務を負うか ２．ハラスメント防止措置義務・４点セット ３．社内研修で伝えるべきポイント ４．相談・申告があったらどう対応するか ５．ハラスメントを理由とする処分 ６．カスタマーハラスメント | H27: 26400 | I27: 29700 | J27: 35200 | K27: 35200 | L27: ハラスメントを防止する！相談・調査・処分の実務【MUFGビジネスセミナーアーカイブ736】 | M27: https://mufg.squet.ne.jp/public/seminar/view/20219
A28: 6_総務・労務・人事・賃金 | B28: 法律実務 | C28: G764 | D28: =HYPERLINK(M28,L28) -> 生成AI（ChatGPT等）の業務利用の法的留意点と対応策【MUFGビジネスセミナーアーカイブ764】 | E28: 影島 広泰 | F28: 3時間45分 | G28: １．生成AIとは何か ２．生成AIを業務で利用する際の法的リスク －個人情報保護法との関係 －著作権法との関係 －契約上の制約など ３．社内ルールを作る際のポイント | H28: 26400 | I28: 29700 | J28: 35200 | K28: 35200 | L28: 生成AI（ChatGPT等）の業務利用の法的留意点と対応策【MUFGビジネスセミナーアーカイブ764】 | M28: https://mufg.squet.ne.jp/public/seminar/view/29293
A29: 6_総務・労務・人事・賃金 | B29: 法律実務 | C29: G774 | D29: =HYPERLINK(M29,L29) -> 「改正下請法」施行直前！総点検セミナー【MUFGビジネスセミナーアーカイブ774】 | E29: 千葉 博 | F29: 2時間44分 | G29: １．＜前提＞現行下請法の概要 ２．下請法改正の背景 ３．下請法改正の内容 ４．実務への影響と対応策 | H29: 26400 | I29: 29700 | J29: 35200 | K29: 35200 | L29: 「改正下請法」施行直前！総点検セミナー【MUFGビジネスセミナーアーカイブ774】 | M29: https://mufg.squet.ne.jp/public/seminar/view/32692
A30: 6_総務・労務・人事・賃金 | B30: 役割認識（人事） | C30: G743 | D30: =HYPERLINK(M30,L30) -> 人事・労務の基礎知識【MUFGビジネスセミナーアーカイブ743】 | E30: 小宮 弘子 | F30: 5時間32分 | G30: 1．人事部門の役割 2．採用・選考の基礎知識 3．雇用形態別留意点 4．就業規則と雇用契約 ５．人事制度と人事管理 ６．労働時間等の管理・運用 ７．休職・復職制度の運用 ８．メンタルヘルス不全と休職制度の運用 ９．退職・解雇等 10．職場のトラブル対応等 11．法改正対応や人事労務の最新留意点 | H30: 34100 | I30: 37400 | J30: 42900 | K30: 42900 | L30: 人事・労務の基礎知識【MUFGビジネスセミナーアーカイブ743】 | M30: https://mufg.squet.ne.jp/public/seminar/view/20647
A31: 6_総務・労務・人事・賃金 | B31: 役割認識（人事） | C31: G755 | D31: 人事・労務のステップアップ講座 ※2027年2月下旬公開予定 | E31: 小宮 弘子 | G31: １．人材確保と定着の取組み ２．トラブルにならない賃金制度の運用実務（中途採用、降給、降格） ３．対応に困らない休職・復職の運用実務 ４．職場の各種トラブル対応の実務 ５．行政調査対応の実務 | H31: 34100 | I31: 37400 | J31: 42900 | K31: 42900 | L31: 人事・労務のステップアップ講座【オンラインLIVE_N664】
A32: 6_総務・労務・人事・賃金 | B32: 役割認識（人事） | C32: G775 | D32: =HYPERLINK(M32,L32) -> 人事担当者キャリアアップセミナー＜Ⅰ．人材確保・定着編＞【MUFGビジネスセミナーアーカイブ775】 | E32: 小宮 弘子 | F32: 2時間40分 | G32: ＜Ⅰ．人材確保・定着編＞ １．これからの人事部門の役割 ２．募集・選考から本採用まで～労務コンプライアンスを意識した人材確保・定着 | H32: 26400 | I32: 29700 | J32: 35200 | K32: 35200 | L32: 人事担当者キャリアアップセミナー＜Ⅰ．人材確保・定着編＞【MUFGビジネスセミナーアーカイブ775】 | M32: https://mufg.squet.ne.jp/public/seminar/view/33385
A33: 6_総務・労務・人事・賃金 | B33: 役割認識（人事） | C33: G776 | D33: =HYPERLINK(M33,L33) -> 人事担当者キャリアアップセミナー＜Ⅱ．人事管理編＞【MUFGビジネスセミナーアーカイブ776】 | E33: 小宮 弘子 | F33: 2時間41分 | G33: ＜Ⅱ．人事管理編＞ １．人事異動、人事制度の運用 ２．多様な就業形態の活用と労働法令 ３．休業制度等の運用 | H33: 26400 | I33: 29700 | J33: 35200 | K33: 35200 | L33: 人事担当者キャリアアップセミナー＜Ⅱ．人事管理編＞【MUFGビジネスセミナーアーカイブ776】 | M33: https://mufg.squet.ne.jp/public/seminar/view/33387
A34: 6_総務・労務・人事・賃金 | B34: 役割認識（人事） | C34: G777 | D34: =HYPERLINK(M34,L34) -> 人事担当者キャリアアップセミナー＜Ⅲ．賃金トラブル編＞【MUFGビジネスセミナーアーカイブ777】 | E34: 小宮 弘子 | F34: 2時間39分 | G34: ＜Ⅲ．賃金トラブル編＞ １．未払い残業対策 ２．賃金に関する各種取扱い | H34: 26400 | I34: 29700 | J34: 35200 | K34: 35200 | L34: 人事担当者キャリアアップセミナー＜Ⅲ．賃金トラブル編＞【MUFGビジネスセミナーアーカイブ777】 | M34: https://mufg.squet.ne.jp/public/seminar/view/33389
A35: 6_総務・労務・人事・賃金 | B35: 役割認識（人事） | C35: G778 | D35: =HYPERLINK(M35,L35) -> 人事担当者キャリアアップセミナー＜Ⅳ．職場のトラブル編＞【MUFGビジネスセミナーアーカイブ778】 | E35: 小宮 弘子 | F35: 2時間43分 | G35: ＜Ⅳ．職場のトラブル編＞ １．ハラスメント対応 ２．よくある職場のトラブルと対応策 | H35: 26400 | I35: 29700 | J35: 35200 | K35: 35200 | L35: 人事担当者キャリアアップセミナー＜Ⅳ．職場のトラブル編＞【MUFGビジネスセミナーアーカイブ778】 | M35: https://mufg.squet.ne.jp/public/seminar/view/33391
A36: 6_総務・労務・人事・賃金 | B36: 役割認識（人事） | C36: G779 | D36: =HYPERLINK(M36,L36) -> 人事担当者キャリアアップセミナー＜Ⅰ～Ⅳ通し受講＞【MUFGビジネスセミナーアーカイブ779】 | E36: 小宮 弘子 | F36: 10時間43分 | G36: ＜Ⅰ．人材確保・定着編＞ ＜Ⅱ．人事管理編＞ ＜Ⅲ．賃金トラブル編＞ ＜Ⅳ．職場のトラブル編＞ ※受講期間1ヵ月 | H36: 68200 | I36: 74800 | J36: 85800 | K36: 85800 | L36: 人事担当者キャリアアップセミナー＜Ⅰ～Ⅳ通し受講＞【MUFGビジネスセミナーアーカイブ779】 | M36: https://mufg.squet.ne.jp/public/seminar/view/34012
A37: 6_総務・労務・人事・賃金 | B37: 労務管理 | C37: G751 | D37: =HYPERLINK(M37,L37) -> １日でわかる！労働基準法の実務【MUFGビジネスセミナーアーカイブ751】 | E37: 朝生 万里子 | F37: 5時間36分 | G37: １．労働基準法とは ２．労働契約 ３．就業規則 ４．職場規律と懲戒 ５．労働時間・休憩・休日・休暇 ６．賃金 ７．女性 ８．監督機関 ９．その他の重要事項 | H37: 36300 | I37: 39600 | J37: 45100 | K37: 45100 | L37: １日でわかる！労働基準法の実務【MUFGビジネスセミナーアーカイブ751】 | M37: https://mufg.squet.ne.jp/public/seminar/view/21736
A38: 6_総務・労務・人事・賃金 | B38: 労務管理 | C38: G769 | D38: 労働時間管理をめぐる諸問題と対応策 ※2026年6月中旬公開予定 | E38: 橘 大樹 | G38: １．企業の労働時間管理の実務ポイント ２．ケースで学ぶ労働時間 ３．休日、休憩、年次有給休暇の留意点 ４．特別な労働時間制度 ５．副業・兼業、勤務間インターバルなど | H38: 34100 | I38: 37400 | J38: 42900 | K38: 42900 | L38: 労働時間管理をめぐる諸問題と対応策【オンラインLIVE_T651】
A39: 6_総務・労務・人事・賃金 | B39: 労務管理 | C39: G773 | D39: =HYPERLINK(M39,L39) -> 問題社員をめぐるトラブルへの法的対応策【MUFGビジネスセミナーアーカイブ773】 | E39: 橘 大樹 | F39: 5時間23分 | G39: １．基本となる法知識 ２．問題社員への実務対応 ３．合意退職、解雇通知の法的留意点 ４．様々なケーススタディ ５．社内の不祥事案と懲戒処分の進め方 ６．社員の逮捕・勾留（企業外非行） ７．メンタル不調社員の対応 ８．契約社員、定年後再雇用の問題行動 | H39: 34100 | I39: 37400 | J39: 42900 | K39: 42900 | L39: 問題社員をめぐるトラブルへの法的対応策【MUFGビジネスセミナーアーカイブ773】 | M39: https://mufg.squet.ne.jp/public/seminar/view/32395
